BEGIN:VCALENDAR
PRODID:-//ActOn//iCal4j 1.1//EN
VERSION:2.0
CALSCALE:GREGORIAN
BEGIN:VEVENT
DTSTAMP:20260422T173831Z
DTSTART:20130618T180000Z
DTEND:20130618T190000Z
SUMMARY:Brandraising
DESCRIPTION:Brandraising\n\n
UID:AO_EVENT_4852_000c__1368559300811
END:VEVENT
END:VCALENDAR
